BEGIN:VCALENDAR
VERSION:2.0
PRODID:-//SVP Bezirk Kulm //NONSGML Events //EN
CALSCALE:GREGORIAN
X-WR-CALNAME:SVP Bezirk Kulm
BEGIN:VEVENT
CREATED:20251103T063916Z
UID:2161
DTEND:20260506T000000
DTSTART:20260506T000000
DTSTAMP:20260420T031901Z
LOCATION:
DESCRIPTION:Im Anschluss an die Sitzung des Kantonalvorstandes findet der ordentli
SUMMARY:Kantonalvorstand
ORGANIZER:
URL;VALUE=URI:https://www.svp-kulm.ch/termine/kantonalvorstand-6/
TRANSP:OPAQUE
END:VEVENT
END:VCALENDAR
